Workbook
Name Kirjoita_tähän_vk_1_tapahtuma: 'Vuosikello 2021'!$V$12

Sheet Vuosikello 2021
B2: Vuosikello
B3: 1 | E3: 1 | H3: 1 | K3: 1
B4: Q1 | E4: Q2 | H4: Q3 | K4: Q4
B5: Tammi | C5: Helmi | D5: Maalis | E5: Huhti | F5: Touko | G5: Kesä | H5: Heinä | I5: Elo | J5: Syys | K5: Loka | L5: Marras | M5: Joulu
B6: Kirjoita tähän vk 1 tapahtuma | C6: Markkinat
B7: Kirjoita tähän vk 2 tapahtuma | C7: Messut
B8: Kirjoita tähän vk 3 tapahtuma | C8: Lanseeraus
B9: Kirjoita tähän vk 4 tapahtuma | C9: Ystävänpäivä
V12: =IF(LEN('Vuosikello 2021'!B6)>0,'Vuosikello 2021'!B6,"") -> Kirjoita tähän vk 1 tapahtuma | W12: =COUNTBLANK('Vuosikello 2021'!B6:B9)+IF('Vuosikello 2021'!B6>0,1) -> 1
V13: =IF(LEN('Vuosikello 2021'!B7)>0,'Vuosikello 2021'!B7,"") -> Kirjoita tähän vk 2 tapahtuma | W13: =IF(LEN('Vuosikello 2021'!B7)>0,1,"") -> 1
V14: =IF(LEN('Vuosikello 2021'!B8)>0,'Vuosikello 2021'!B8,"") -> Kirjoita tähän vk 3 tapahtuma | W14: =IF(LEN('Vuosikello 2021'!B8)>0,1,"") -> 1
V15: =IF(LEN('Vuosikello 2021'!B9)>0,'Vuosikello 2021'!B9,"") -> Kirjoita tähän vk 4 tapahtuma | W15: =IF(LEN('Vuosikello 2021'!B9)>0,1,"") -> 1
V16: =IF(LEN('Vuosikello 2021'!C6)>0,'Vuosikello 2021'!C6,"") -> Markkinat | W16: =COUNTBLANK('Vuosikello 2021'!C6:C9)+IF('Vuosikello 2021'!C6>0,1) -> 1
V17: =IF(LEN('Vuosikello 2021'!C7)>0,'Vuosikello 2021'!C7,"") -> Messut | W17: =IF(LEN('Vuosikello 2021'!C7)>0,1,"") -> 1
V18: =IF(LEN('Vuosikello 2021'!C8)>0,'Vuosikello 2021'!C8,"") -> Lanseeraus | W18: =IF(LEN('Vuosikello 2021'!C8)>0,1,"") -> 1
V19: =IF(LEN('Vuosikello 2021'!C9)>0,'Vuosikello 2021'!C9,"") -> Ystävänpäivä | W19: =IF(LEN('Vuosikello 2021'!C9)>0,1,"") -> 1
V20: =IF(LEN('Vuosikello 2021'!D6)>0,'Vuosikello 2021'!D6,"") | W20: =COUNTBLANK('Vuosikello 2021'!D6:D9)+IF('Vuosikello 2021'!D6>0,1) -> 4
V21: =IF(LEN('Vuosikello 2021'!D7)>0,'Vuosikello 2021'!D7,"") | W21: =IF(LEN('Vuosikello 2021'!D7)>0,1,"")
V22: =IF(LEN('Vuosikello 2021'!D8)>0,'Vuosikello 2021'!D8,"") | W22: =IF(LEN('Vuosikello 2021'!D8)>0,1,"")
V23: =IF(LEN('Vuosikello 2021'!D9)>0,'Vuosikello 2021'!D9,"") | W23: =IF(LEN('Vuosikello 2021'!D9)>0,1,"")
V24: =IF(LEN('Vuosikello 2021'!E6)>0,'Vuosikello 2021'!E6,"") | W24: =COUNTBLANK('Vuosikello 2021'!E6:E9)+IF('Vuosikello 2021'!E6>0,1) -> 4
V25: =IF(LEN('Vuosikello 2021'!E7)>0,'Vuosikello 2021'!E7,"") | W25: =IF(LEN('Vuosikello 2021'!E7)>0,1,"")
V26: =IF(LEN('Vuosikello 2021'!E8)>0,'Vuosikello 2021'!E8,"") | W26: =IF(LEN('Vuosikello 2021'!E8)>0,1,"")
V27: =IF(LEN('Vuosikello 2021'!E9)>0,'Vuosikello 2021'!E9,"") | W27: =IF(LEN('Vuosikello 2021'!E9)>0,1,"")
V28: =IF(LEN('Vuosikello 2021'!F6)>0,'Vuosikello 2021'!F6,"") | W28: =COUNTBLANK('Vuosikello 2021'!F6:F9)+IF('Vuosikello 2021'!F6>0,1) -> 4
V29: =IF(LEN('Vuosikello 2021'!F7)>0,'Vuosikello 2021'!F7,"") | W29: =IF(LEN('Vuosikello 2021'!F7)>0,1,"")
V30: =IF(LEN('Vuosikello 2021'!F8)>0,'Vuosikello 2021'!F8,"") | W30: =IF(LEN('Vuosikello 2021'!F8)>0,1,"")
V31: =IF(LEN('Vuosikello 2021'!F9)>0,'Vuosikello 2021'!F9,"") | W31: =IF(LEN('Vuosikello 2021'!F9)>0,1,"")
V32: =IF(LEN('Vuosikello 2021'!G6)>0,'Vuosikello 2021'!G6,"") | W32: =COUNTBLANK('Vuosikello 2021'!G6:G9)+IF('Vuosikello 2021'!G6>0,1) -> 4
V33: =IF(LEN('Vuosikello 2021'!G7)>0,'Vuosikello 2021'!G7,"") | W33: =IF(LEN('Vuosikello 2021'!G7)>0,1,"")
V34: =IF(LEN('Vuosikello 2021'!G8)>0,'Vuosikello 2021'!G8,"") | W34: =IF(LEN('Vuosikello 2021'!G8)>0,1,"")
V35: =IF(LEN('Vuosikello 2021'!G9)>0,'Vuosikello 2021'!G9,"") | W35: =IF(LEN('Vuosikello 2021'!G9)>0,1,"")
V36: =IF(LEN('Vuosikello 2021'!H6)>0,'Vuosikello 2021'!H6,"") | W36: =COUNTBLANK('Vuosikello 2021'!H6:H9)+IF('Vuosikello 2021'!H6>0,1) -> 4
V37: =IF(LEN('Vuosikello 2021'!H7)>0,'Vuosikello 2021'!H7,"") | W37: =IF(LEN('Vuosikello 2021'!H7)>0,1,"")
V38: =IF(LEN('Vuosikello 2021'!H8)>0,'Vuosikello 2021'!H8,"") | W38: =IF(LEN('Vuosikello 2021'!H8)>0,1,"")
V39: =IF(LEN('Vuosikello 2021'!H9)>0,'Vuosikello 2021'!H9,"") | W39: =IF(LEN('Vuosikello 2021'!H9)>0,1,"")
V40: =IF(LEN('Vuosikello 2021'!I6)>0,'Vuosikello 2021'!I6,"") | W40: =COUNTBLANK('Vuosikello 2021'!I6:I9)+IF('Vuosikello 2021'!I6>0,1) -> 4
V41: =IF(LEN('Vuosikello 2021'!I7)>0,'Vuosikello 2021'!I7,"") | W41: =IF(LEN('Vuosikello 2021'!I7)>0,1,"")
V42: =IF(LEN('Vuosikello 2021'!I8)>0,'Vuosikello 2021'!I8,"") | W42: =IF(LEN('Vuosikello 2021'!I8)>0,1,"")
V43: =IF(LEN('Vuosikello 2021'!I9)>0,'Vuosikello 2021'!I9,"") | W43: =IF(LEN('Vuosikello 2021'!I9)>0,1,"")
...
